Workbook

Sheet 対象災害選択シート
A1: 「対象災害選択シート」
A3: ・対象となる災害を選んでください。 ・自衛水防組織の有無を選んでください。
B6: 入力項目 | T6: 入力セル | AM6: 入力例
A7: （対象災害） | BE7: 対象となる災害について桃色セルを〇に変更してください。
B9: 洪水 | T9: ○ | Y9: ○：対象、✕：対象外 | AM9: ○/✕ | BE9: 自衛水防組織については努力義務とされているため、今回は設置しないこととして構いません。（令和４年３月）
B11: 内水 | T11: ✕ | Y11: ○：対象、✕：対象外 | AM11: ○/✕
B13: 高潮 | T13: ✕ | Y13: ○：対象、✕：対象外 | AM13: ○/✕
B15: 津波 | T15: ○ | Y15: ○：対象、✕：対象外 | AM15: ○/✕
B17: 土砂災害 | T17: ○ | Y17: ○：対象、✕：対象外 | AM17: ○/✕
A19: （自衛水防組織） | BE19: 防災体制確立の判断時期に基づき、注意、警戒、非常の体制をとり、管理権限者が定めた統括管理者のもと、総括・情報班、避難誘導班が避難誘導等の活動を行う。
B21: 自衛水防組織 | T21: ✕ | Y21: ○：有り、✕：無し | AM21: ○/✕ | BE21: 防災体制確立の判断時期に基づき、注意、警戒、非常の体制をとり、管理権限者のもと情報収集伝達要員、避難誘導要員が避難誘導等の活動を行う。
BG30: =IF(BF24<>"",RIGHT(BF24,LEN(BF24)-1),"")
BD31: 表紙 | BE31: =COUNTIF(対象災害選択シート!T9:V15,"○") -> 2 | BF31: =IF(対象災害選択シート!$T$9="○"," 洪水","")&IF(対象災害選択シート!$T$11="○"," 内水","")&IF(対象災害選択シート!$T$13="○"," 高潮","")&IF(対象災害選択シート!$T$15="○"," 津波","") -> 洪水 津波 | BG31: 対象災害：水害（ | BH31: =IF(BF31<>"",RIGHT(BF31,LEN(BF31)-1),"") -> 洪水 津波 | BI31: ） | BJ31: 対象災害：土砂災害（がけ崩れ・土石流・地すべり）
BE32: =COUNTIF(対象災害選択シート!T9:V17,"○") -> 3 | BG32: 土砂災害（がけ崩れ・土石流・地すべり）
BD33: 様式１ | BE33: =COUNTIF(対象災害選択シート!T9:V17,"○") -> 3 | BF33: =IF(対象災害選択シート!T9="○","・洪水時","")&IF(対象災害選択シート!T11="○","・内水時","")&IF(対象災害選択シート!T13="○","・高潮時","")&IF(対象災害選択シート!T15="○","・津波の発生時","")&IF(対象災害選択シート!T17="○","・土砂災害の発生時","") -> ・洪水時・津波の発生時・土砂災害の発生時 | BI33: この計画は、 | BJ33: 本施設の利用者の | BK33: =IF(BF33<>"",RIGHT(BF33,LEN(BF33)-1),"") -> 洪水時・津波の発生時・土砂災害の発生時 | BL33: の円滑かつ迅速な避難の確保を図ることを目的とする。
BE34: =COUNTIF(対象災害選択シート!$T$9:$V$13,"○") -> 1 | BF34: =IF(対象災害選択シート!T9="○","・洪水","")&IF(対象災害選択シート!T11="○","・内水","")&IF(対象災害選択シート!T13="○","・高潮","")&IF(対象災害選択シート!T15="○","・津波","")&IF(対象災害選択シート!T17="○","・土砂災害","") -> ・洪水・津波・土砂災害 | BI34: また、作成した避難確保計画に基づいて、安全な避難行動を確実に行うことができるよう、防災教育や訓練を行い、施設の職員や利用者に対して、 | BJ34: =IF(BF34<>"",RIGHT(BF34,LEN(BF34)-1),"") -> 洪水・津波・土砂災害 | BK34: に関する知識を深めるとともに、訓練等を通して課題等を抽出し、必要に応じてこの計画を見直ししていくものとする。
BF35: 関連法： | BG35: =IF(BE34<>0,"、水防法","")&IF(対象災害選択シート!T15="○","、津波防災地域づくりに関する法律","")&IF(対象災害選択シート!T17="○","、土砂災害防止法","") -> 、水防法、津波防災地域づくりに関する法律、土砂災害防止法 | BK35: =IF(BG35<>"",RIGHT(BG35,LEN(BG35)-1),"") -> 水防法、津波防災地域づくりに関する法律、土砂災害防止法 | BL35: =BF35&BK35 -> 関連法：水防法、津波防災地域づくりに関する法律、土砂災害防止法
BD36: 別表1 | BE36: =COUNTIF(対象災害選択シート!T9:V17,"○") -> 3 | BF36: =IF(対象災害選択シート!BF33<>"",RIGHT(対象災害選択シート!BF33,LEN(対象災害選択シート!BF33)-1),"") -> 洪水時・津波の発生時・土砂災害の発生時 | BG36: の避難場所、避難経路は以下のものとする。

Sheet 作業シート
A1: ②避難確保計画ひな形 | BO1: ③避難確保計画作成例
DS2: 記載例
C4: 社会福祉施設 | BQ4: 社会福祉施設
C9: 避難確保計画 | BQ9: 避難確保計画
A16: =IF(対象災害選択シート!BE32=0,"",IF(対象災害選択シート!BE31<>0,対象災害選択シート!BG31&対象災害選択シート!BH31&対象災害選択シート!BI31,対象災害選択シート!BJ31)) -> 対象災害：水害（洪水 津波） | BO16: 対象災害：水害（洪水 内水 高潮 津波）
A17: =IF(AND(対象災害選択シート!T17="○",対象災害選択シート!BE31<>0),対象災害選択シート!BG32,"") -> 土砂災害（がけ崩れ・土石流・地すべり） | BO17: 土砂災害（がけ崩れ・土石流・地すべり）
C32: 【施設名： | BI32: 】 | BQ32: 【施設名： | CC32: ○○○○○ | DW32: 】
AA35: 年 | AI35: 月 | AM35: 作成 | CG35: ○ | CO35: 年 | CS35: ○ | CW35: 月 | DA35: 作成
BO37: 最初に「対象災害選択シート」から対象災害について選択をしてください。
BO38: このエクセルファイルの使い方
BO39: 作業シートの必要な項目を記入してください。
BO40: 記入する場所は桃色の空欄で示しています。
BO41: 様式２は対象となる災害のみ記入してください。
BO42: 自衛水防組織を設置する場合と設置しない場合があるので、目次を参考に作成してください。
BO43: 記入が終わったら、不要な行を削除してください。
DS47: 記載例
C49: 様式編 目次 | BQ49: 様式編 目次
BQ51: 青色の書類は市町村長に提出してください。
BQ52: 自衛水防組織の有無によって、下記の表をコピーして使用してください。
BS54: 自衛水防組織を設置する場合 | DA54: 自衛水防組織を設置しない場合
V55: 項目 | AN55: 様式等 | AR55: ページ | BU55: 項目 | CM55: 様式等 | CQ55: ページ | DC55: 項目 | DU55: 様式等 | DY55: ページ
T56: 1 | V56: 計画の目的 | AN56: 様式１ | AR56: 1 | BS56: 1 | BU56: 計画の目的 | CM56: 様式１ | CQ56: 1 | DA56: 1 | DC56: 計画の目的 | DU56: 様式１ | DY56: 1
T57: 2 | V57: 計画の報告 | AN57: 様式１ | AR57: 1 | BS57: 2 | BU57: 計画の報告 | CM57: 様式１ | CQ57: 1 | DA57: 2 | DC57: 計画の報告 | DU57: 様式１ | DY57: 1
T58: 3 | V58: 計画の適用範囲 | AN58: 様式１ | AR58: 1 | BS58: 3 | BU58: 計画の適用範囲 | CM58: 様式１ | CQ58: 1 | DA58: 3 | DC58: 計画の適用範囲 | DU58: 様式１ | DY58: 1
T59: 4 | V59: 防災体制 | AN59: 様式２ | AR59: 2～5 | BS59: 4 | BU59: 防災体制 | CM59: 様式２ | CQ59: 2～5 | DA59: 4 | DC59: 防災体制 | DU59: 様式２ | DY59: 2～5
T60: 5 | V60: 情報収集・伝達 | AN60: 様式３ | AR60: 6 | BS60: 5 | BU60: 情報収集・伝達 | CM60: 様式３ | CQ60: 6 | DA60: 5 | DC60: 情報収集・伝達 | DU60: 様式３ | DY60: 6
T61: 6 | V61: 避難誘導 | AN61: 様式４ | AR61: 7 | BS61: 6 | BU61: 避難誘導 | CM61: 様式４ | CQ61: 7 | DA61: 6 | DC61: 避難誘導 | DU61: 様式４ | DY61: 7
T62: 7 | V62: 避難の確保を図るための施設の整備 | AN62: 様式５ | AR62: 8 | BS62: 7 | BU62: 避難の確保を図るための施設の整備 | CM62: 様式５ | CQ62: 8 | DA62: 7 | DC62: 避難の確保を図るための施設の整備 | DU62: 様式５ | DY62: 8
T63: 8 | V63: 防災教育及び訓練の実施 | AN63: 様式５ | AR63: 8 | BS63: 8 | BU63: 防災教育及び訓練の実施 | CM63: 様式５ | CQ63: 8 | DA63: 8 | DC63: 防災教育及び訓練の実施 | DU63: 様式５ | DY63: 8
T64: 10 | V64: 防災教育及び訓練の年間計画 | AN64: 様式７ | AR64: 10 | BS64: 9 | BU64: 自衛水防組織の業務に関する事項 | CM64: 様式６ | CQ64: 9 | DA64: 10 | DC64: 防災教育及び訓練の年間計画 | DU64: 様式７ | DY64: 9
T65: 11 | V65: 利用者緊急連絡先一覧表 | AN65: 様式８ | AR65: 11 | BS65: 10 | BU65: 防災教育及び訓練の年間計画 | CM65: 様式７ | CQ65: 10 | DA65: 11 | DC65: 利用者緊急連絡先一覧表 | DU65: 様式８ | DY65: 10
T66: 12 | V66: 緊急連絡網 | AN66: 様式９ | AR66: 12 | BS66: 11 | BU66: 利用者緊急連絡先一覧表 | CM66: 様式８ | CQ66: 11 | DA66: 12 | DC66: 緊急連絡網 | DU66: 様式９ | DY66: 11
T67: 13 | V67: 外部機関等の緊急連絡先一覧表 | AN67: 様式10 | AR67: 12 | BS67: 12 | BU67: 緊急連絡網 | CM67: 様式９ | CQ67: 12 | DA67: 13 | DC67: 外部機関等の緊急連絡先一覧表 | DU67: 様式10 | DY67: 11
T68: 14 | V68: 対応別避難誘導一覧表 | AN68: 様式11 | AR68: 13 | BS68: 13 | BU68: 外部機関等の緊急連絡先一覧表 | CM68: 様式10 | CQ68: 12 | DA68: 14 | DC68: 対応別避難誘導一覧表 | DU68: 様式11 | DY68: 12
T69: 15 | V69: 防災体制一覧表 | AN69: 様式12 | AR69: 14 | BS69: 14 | BU69: 対応別避難誘導一覧表 | CM69: 様式11 | CQ69: 13 | DA69: 15 | DC69: 防災体制一覧表 | DU69: 様式12 | DY69: 13
T70: - | V70: 施設周辺の避難地図 | AN70: 別紙１ | AR70: － | BS70: - | BU70: 自衛水防組織活動要領 | CM70: 別添 | CQ70: 14 | DA70: - | DC70: 施設周辺の避難地図 | DU70: 別紙１ | DY70: －
BS71: - | BU71: 自衛水防組織の編成と任務 | CM71: 別表１ | CQ71: 15
BS72: - | BU72: 自衛水防組織装備品リスト | CM72: 別表２ | CQ72: 15
BS73: - | BU73: 施設周辺の避難地図 | CM73: 別紙１ | CQ73: －
BS75: ※自衛水防組織については努力義務とされているため、今回は設置しないこととして構いません。（令和４年３月）
BR76: 自衛水防組織は対象災害に応じて、以下のように定められています。
BR78: （洪水、内水、高潮が対象となる場合）
BR79: 要配慮者利用施設には、自衛水防組織の設置の努力義務が課せられています（水防法第十五条の三第7項）。自衛水防組織を設置する場合、様式６も作成し、合わせて、別添、別表１、別表２を作成します。
BR82: （津波、土砂災害が対象となる場合）
BR83: 要配慮者利用施設には、自衛水防組織の設置の努力義務規定はありません。
BR85: （参考）自衛水防組織を設置している場合としていない場合の組織図
BS86: 《自衛水防組織を設置する場合》 | DA86: 《自衛水防組織を設置しない場合》
BU88: 管理権限者 | DC88: 管理権限者
BZ89: ↓
BU90: 統括管理者
CC92: 総括・情報班 | DK92: 情報収集伝達要員
CC95: 避難誘導班 | DK95: 避難誘導要員
BE100: 様式１ | DS100: 記載例
C103: １ 計画の目的 | BQ103: １ 計画の目的
C104: =IF(対象災害選択シート!BE33=0,"",対象災害選択シート!BI33&対象災害選択シート!BJ33&対象災害選択シート!BK33&対象災害選択シート!BL33&CHAR(10)&対象災害選択シート!BI34&対象災害選択シート!BJ34&対象災害選択シート!BK34) -> この計画は、本施設の利用者の洪水時・津波の発生時・土砂災害の発生時の円滑かつ迅速な避難の確保を図ることを目的とする。 また、作成した避難確保計画に基づいて、安全な避難行動を確実に行うことができるよう、防災教育や訓練を行い、施設の職員や利用者に対して、洪水・津波・土砂災害に関する知識を深めるとともに、訓練等を通して課題等を抽出し、必要に応じてこの計画を見直ししていくものとする。 | BQ104: この計画は、本施設の利用者の洪水時・内水時・高潮時・津波の発生時・土砂災害の発生時の円滑かつ迅速な避難の確保を図ることを目的とする。 また、作成した避難確保計画に基づいて、安全な避難行動を確実に行うことができるよう、防災教育や訓練を行い、施設の職員や利用者に対して、洪水・内水・高潮・津波・土砂災害に関する知識を深めるとともに、訓練等を通して課題等を抽出し、必要に応じてこの計画を見直ししていくものとする。
C110: =IF(対象災害選択シート!BL35<>"",対象災害選択シート!BL35,"") -> 関連法：水防法、津波防災地域づくりに関する法律、土砂災害防止法 | BQ110: 関連法：水防法、津波防災地域づくりに関する法律、土砂災害防止法
C113: ２ 計画の報告 | BQ113: ２ 計画の報告
C114: 計画を作成又は必要に応じて見直し・修正をしたときは、遅滞なく、当該計画を市町村長へ報告する。 | BQ114: 計画を作成又は必要に応じて見直し・修正をしたときは、遅滞なく、当該計画を市町村長へ報告する。
C118: ３ 計画の適用範囲 | BQ118: ３ 計画の適用範囲
C119: この計画は、本施設に勤務又は利用する全ての者に適用するものとする。 | BQ119: この計画は、本施設に勤務又は利用する全ての者に適用するものとする。
L122: 施設の状況 | BZ122: 施設の状況
T123: 平 日 | AL123: 休 日 | CH123: 平 日 | CZ123: 休 日
T124: 利用者 | AC124: 施設職員 | AL124: 利用者 | AU124: 施設職員 | CH124: 利用者 | CQ124: 施設職員 | CZ124: 利用者 | DI124: 施設職員
L125: 昼 間 | T125: 約 | Z125: 名 | AC125: 約 | AI125: 名 | AL125: 約 | AR125: 名 | AU125: 約 | BA125: 名 | BZ125: 昼 間 | CH125: 約 | CK125: 27 | CN125: 名 | CQ125: 約 | CT125: 9 | CW125: 名 | CZ125: 約 | DF125: 名 | DI125: 約 | DO125: 名
L126: 夜 間 | T126: 約 | Z126: 名 | AC126: 約 | AI126: 名 | AL126: 約 | AR126: 名 | AU126: 約 | BA126: 名 | BZ126: 夜 間 | CH126: 約 | CK126: 9 | CN126: 名 | CQ126: 約 | CT126: 2 | CW126: 名 | CZ126: 約 | DF126: 名 | DI126: 約 | DO126: 名
L128: ※利用者数は最大の利用者数を記載（おおよその利用者数でもよい） | BZ128: ※利用者数は最大の利用者数を記載（おおよその利用者数でもよい）
L129: ※昼間は通所部門と入所部門の合計人数を記載 | BZ129: ※昼間は通所部門と入所部門の合計人数を記載
L130: ※夜間は入所部門の人数を記載 | BZ130: ※夜間は入所部門の人数を記載
BZ131: ※休日は訪問介護を実施、利用者はいない
C133: ● 計画の見直し | BQ133: ● 計画の見直し
C134: 避難訓練の結果や社会情勢の変化に伴い、定期的に見直すものとする。 | BQ134: 避難訓練の結果や社会情勢の変化に伴い、定期的に見直すものとする。
C136: ● 事前休業の判断について | BQ136: ● 事前休業の判断について
C137: 大型台風の襲来が予想される場合で、公共交通機関の計画的な運休が予定される場合、通所部門を臨時休業とする。 | BQ137: 大型台風の襲来が予想される場合で、公共交通機関の計画的な運休が予定される場合、通所部門を臨時休業とする。
C138: または午前 | M138: 時の時点で、全県下又は「 | AM138: 」に以下のいずれかが発令されている場合は、 | BQ138: または午前 | BY138: 8 | CA138: 時の時点で、全県下又は「 | CP138: ○○市 | DA138: 」に以下のいずれかが発令されている場合は、
C139: 通所部門を臨時休業とする。 | BQ139: 通所部門を臨時休業とする。
BR141: 暴風警報又は特別警報
BR142: 大雨警報又は特別警報
BR143: 洪水警報
BR146: ※開業時間と利用者の通所にかかる時間も考慮して、休業の判断をする。
A147: 1 | BO147: =A147 -> 1
C149: 洪水 | BE149: 様式２ | BQ149: 洪水 | DS149: 記載例
C151: ４ 防災体制 | BQ151: ４ 防災体制
C153: =IF(対象災害選択シート!$T$21="○",対象災害選択シート!$BE$19,対象災害選択シート!$BE$21) -> 防災体制確立の判断時期に基づき、注意、警戒、非常の体制をとり、管理権限者のもと情報収集伝達要員、避難誘導要員が避難誘導等の活動を行う。 | BQ153: 《自衛水防組織を設置する場合》 防災体制確立の判断時期に基づき、注意、警戒、非常の体制をとり、管理権限者が定めた統括管理者のもと、総括・情報班、避難誘導班が避難誘導等の活動を行う。 《自衛水防組織を設置しない場合》 防災体制確立の判断時期に基づき、注意、警戒、非常の体制をとり、管理権限者のもと情報収集伝達要員、避難誘導要員が避難誘導等の活動を行う。
C159: 【防災体制確立の判断時期及び役割分担】 | BQ159: 【防災体制確立の判断時期及び役割分担】
BR162: 以下のいずれかに該当する場合 | CR162: 洪水予報等の情報収集 | DH162: 総括・情報班（情報収集伝達要員）
BR163: 洪水注意報発表
BR164: 稲生沢川
BR165: （深根橋水位観測所）
BR166: 水防団待機水位
BR171: 以下のいずれかに該当する場合 | CR171: 洪水予報等の情報収集 | DH171: 総括・情報班（情報収集伝達要員）
BR172: 高齢者等避難の発令 | CR172: 使用する資器材の準備 | DH172: 避難誘導班（避難誘導要員）
BR173: 洪水警報発表 | CR173: 保護者・家族等への事前連絡 | DH173: 総括・情報班（情報収集伝達要員）
BR174: 稲生沢川 | CR174: 周辺住民への事前協力依頼 | DH174: 総括・情報班（情報収集伝達要員）
BR175: （深根橋水位観測所） | CR175: 要配慮者の避難誘導 | DH175: 避難誘導班（避難誘導要員）
BR176: 氾濫注意水位
BR180: 以下のいずれかに該当する場合 | CR180: 施設内全体の避難誘導 | DH180: 避難誘導班（避難誘導要員）
BR181: 避難指示の発令
BR182: 稲生沢川
BR183: （深根橋水位観測所）
BR184: 氾濫危険水位
...
